BEGIN:VCALENDAR
VERSION:2.0
PRODID:-//Theater Het Pakhuis - ECPv6.15.20//NONSGML v1.0//EN
CALSCALE:GREGORIAN
METHOD:PUBLISH
X-WR-CALNAME:Theater Het Pakhuis
X-ORIGINAL-URL:https://www.pakhuishoorn.nl
X-WR-CALDESC:Evenementen voor Theater Het Pakhuis
REFRESH-INTERVAL;VALUE=DURATION:PT1H
X-Robots-Tag:noindex
X-PUBLISHED-TTL:PT1H
BEGIN:VTIMEZONE
TZID:Europe/Amsterdam
BEGIN:DAYLIGHT
TZOFFSETFROM:+0100
TZOFFSETTO:+0200
TZNAME:CEST
DTSTART:20230326T010000
END:DAYLIGHT
BEGIN:STANDARD
TZOFFSETFROM:+0200
TZOFFSETTO:+0100
TZNAME:CET
DTSTART:20231029T010000
END:STANDARD
BEGIN:DAYLIGHT
TZOFFSETFROM:+0100
TZOFFSETTO:+0200
TZNAME:CEST
DTSTART:20240331T010000
END:DAYLIGHT
BEGIN:STANDARD
TZOFFSETFROM:+0200
TZOFFSETTO:+0100
TZNAME:CET
DTSTART:20241027T010000
END:STANDARD
BEGIN:DAYLIGHT
TZOFFSETFROM:+0100
TZOFFSETTO:+0200
TZNAME:CEST
DTSTART:20250330T010000
END:DAYLIGHT
BEGIN:STANDARD
TZOFFSETFROM:+0200
TZOFFSETTO:+0100
TZNAME:CET
DTSTART:20251026T010000
END:STANDARD
END:VTIMEZONE
BEGIN:VEVENT
DTSTART;TZID=Europe/Amsterdam:20240406T200000
DTEND;TZID=Europe/Amsterdam:20240406T200000
DTSTAMP:20260420T003133
CREATED:20240325T132752Z
LAST-MODIFIED:20240405T092446Z
UID:17973-1712433600-1712433600@www.pakhuishoorn.nl
SUMMARY:Hoorn Lacht: Open Mic\, Comedy Night Door "Said el Hassnaoui"
DESCRIPTION:Vergeet de sportschool en kom je buikspieren trainen bij Hoorn Lacht. \nBij Hoorn Lacht kun je 6 tot 8 comedians op het podium verwachten. Allen hebben ze 1 ding gemeen\, nieuw materiaal (grappen) try-outen. Is het een blijvertje of gaan we deze poging tot een grap nooit meer horen. \nEén microfoon\, grappen in razend tempo\, licht op het podium en publiek. Meer is er niet nodig voor een grappig avond uit. \nDe avonden worden georganiseerd door  Said el Hassnaoui (WestSaid). Said is winnaar van de comedy slam\, UICF Talent Award en was dit jaar finalist bij het Leidscabaret Festival.  De presentatie is in handen van wisselende comedy talenten. \nDe line-up bestaat uit Nederlandse maar ook soms Belgische gevestigde namen en aanstormend talent. Comedians en een MC die nieuwe grappen komen vertellen en uitproberen. Mis het niet.! \nDe voorstelling duurt tot ongeveer 22:30 uur. Er is een pauze. \nEen rolstoel plaats?   \nDat kan! Boek een rolstoelplek\, dan zorgen wij dat er vooraf ruimte wordt gemaakt voor de rolstoel. Ga je samen met iemand zonder rolstoel? Boek dan een regulier ticket voor de persoon die niet in een rolstoel zit\, zodat voor deze persoon een stoel beschikbaar is. Zijn de rolstoeltickets uitverkocht\, neem dan contact op met ons theater!  \nBetalen met de Hoorn Pas? \nDat kan! Stuur dan even een mailtje naar ons. Klik hier om meteen de mail te openen. \nZet in het bericht hoeveel kaarten je wilt hebben voor welke voorstelling en welk bedrag je met de Hoorn Pas wil betalen.\nOf bel met 0229 247 202 (bereikbaar dinsdag-vrijdag 10:00-16:00 uur)   \n  \n 
URL:https://www.pakhuishoorn.nl/voorstelling/hoorn-lacht-open-mic-comedy-night-door-said-el-hassnaoui/
LOCATION:Zaal 1 – Theater Het Pakhuis\, Onder de Boompjes 21\, Hoorn\, 1621 GG
CATEGORIES:uitgelicht
ATTACH;FMTTYPE=image/jpeg:https://www.pakhuishoorn.nl/wp-content/uploads/2023/05/plaatsnaam-lacht-002.jpg
END:VEVENT
END:VCALENDAR