BEGIN:VCALENDAR
VERSION:2.0
PRODID:-//Theater Het Pakhuis - ECPv6.15.20//NONSGML v1.0//EN
CALSCALE:GREGORIAN
METHOD:PUBLISH
X-ORIGINAL-URL:https://www.pakhuishoorn.nl
X-WR-CALDESC:Evenementen voor Theater Het Pakhuis
REFRESH-INTERVAL;VALUE=DURATION:PT1H
X-Robots-Tag:noindex
X-PUBLISHED-TTL:PT1H
BEGIN:VTIMEZONE
TZID:Europe/Amsterdam
BEGIN:DAYLIGHT
TZOFFSETFROM:+0100
TZOFFSETTO:+0200
TZNAME:CEST
DTSTART:20250330T010000
END:DAYLIGHT
BEGIN:STANDARD
TZOFFSETFROM:+0200
TZOFFSETTO:+0100
TZNAME:CET
DTSTART:20251026T010000
END:STANDARD
BEGIN:DAYLIGHT
TZOFFSETFROM:+0100
TZOFFSETTO:+0200
TZNAME:CEST
DTSTART:20260329T010000
END:DAYLIGHT
BEGIN:STANDARD
TZOFFSETFROM:+0200
TZOFFSETTO:+0100
TZNAME:CET
DTSTART:20261025T010000
END:STANDARD
BEGIN:DAYLIGHT
TZOFFSETFROM:+0100
TZOFFSETTO:+0200
TZNAME:CEST
DTSTART:20270328T010000
END:DAYLIGHT
BEGIN:STANDARD
TZOFFSETFROM:+0200
TZOFFSETTO:+0100
TZNAME:CET
DTSTART:20271031T010000
END:STANDARD
END:VTIMEZONE
BEGIN:VEVENT
DTSTART;TZID=Europe/Amsterdam:20261121T200000
DTEND;TZID=Europe/Amsterdam:20261121T200000
DTSTAMP:20260421T182112
CREATED:20260401T084920Z
LAST-MODIFIED:20260401T175952Z
UID:30529-1795291200-1795291200@www.pakhuishoorn.nl
SUMMARY:'Mooie Liedjes Legends - The Greatest Hits' door Jeffrey Schenk
DESCRIPTION:Geniet van de grootste Engelstalige hits én de verhalen erachter! \nIn seizoen 2024/2025 beleefde Jeffrey een succesvol seizoen met ‘Mooie liedjes’\, een voorstelling vol met de allergrootste Hollandse hits van de afgelopen 40 jaar. Nu is hij terug met een gloednieuwe editie van ‘Mooie liedjes’. Samen met Wendy en Soraya van Remedy (bekend van onder andere The Voice of Holland) brengt hij dit keer een volledig Engelstalig programma. \nVan Elton John tot Phil Collins\, van Celine Dion tot Michael Jackson\, van Tina Turner tot The Spice Girls – talloze klassiekers komen voorbij\, solo\, in duetten en natuurlijk met z’n drieën. Liedjes die herinneringen oproepen en je meteen laten meezingen. \nAlle stijlen passeren de revue: pop\, blues\, country\, singer-songwriter en zelfs een vleugje rock-’n-roll. Van een klein\, intiem plaatje van Lionel Richie tot een swingende klassieker van Elvis. En er valt ook wat te leren: grappige anekdotes en bijzondere weetjes wisselen af met muziek. \nEen avond vol herinneringen en plezier\, met de grootste hits van de LEGENDS – live begeleid door Charlotte Hebels op piano. \nAlle tickets zijn inclusief één drankje naar keuze.  \nEen rolstoelplaats?   \nDat kan! Boek een rolstoelplek\, dan zorgen wij dat er vooraf ruimte wordt gemaakt voor de rolstoel. Ga je samen met iemand zonder rolstoel? Boek dan een regulier ticket voor de persoon die niet in een rolstoel zit\, zodat voor deze persoon een stoel beschikbaar is. Zijn de rolstoeltickets uitverkocht\, neem dan contact op met ons theater!  \nBetalen met de Hoorn-pas? \nDat kan! Stuur uiterlijk drie dagen voor de voorstelling die je wilt bezoeken een e-mail naar info@pakhuishoorn.nl. \nZet in het bericht hoeveel kaarten je wilt hebben en welk bedrag je met de Hoorn-pas wilt betalen.\nJe kunt ook bellen met 0229 247 202 (bereikbaar maandag-vrijdag 10:00-16:00 uur) \n 
URL:https://www.pakhuishoorn.nl/voorstelling/mooie-liedjes-legends-the-greatest-hits/
LOCATION:Zaal 1 – Theater Het Pakhuis\, Onder de Boompjes 21\, Hoorn\, 1621 GG
CATEGORIES:uitgelicht
ATTACH;FMTTYPE=image/png:https://www.pakhuishoorn.nl/wp-content/uploads/2026/04/mooieliedjes-banner-socialmedia-clean.png
END:VEVENT
END:VCALENDAR