BEGIN:VCALENDAR
VERSION:2.0
PRODID:-//Theater Het Pakhuis - ECPv6.15.20//NONSGML v1.0//EN
CALSCALE:GREGORIAN
METHOD:PUBLISH
X-ORIGINAL-URL:https://www.pakhuishoorn.nl
X-WR-CALDESC:Evenementen voor Theater Het Pakhuis
REFRESH-INTERVAL;VALUE=DURATION:PT1H
X-Robots-Tag:noindex
X-PUBLISHED-TTL:PT1H
BEGIN:VTIMEZONE
TZID:Europe/Amsterdam
BEGIN:DAYLIGHT
TZOFFSETFROM:+0100
TZOFFSETTO:+0200
TZNAME:CEST
DTSTART:20250330T010000
END:DAYLIGHT
BEGIN:STANDARD
TZOFFSETFROM:+0200
TZOFFSETTO:+0100
TZNAME:CET
DTSTART:20251026T010000
END:STANDARD
BEGIN:DAYLIGHT
TZOFFSETFROM:+0100
TZOFFSETTO:+0200
TZNAME:CEST
DTSTART:20260329T010000
END:DAYLIGHT
BEGIN:STANDARD
TZOFFSETFROM:+0200
TZOFFSETTO:+0100
TZNAME:CET
DTSTART:20261025T010000
END:STANDARD
BEGIN:DAYLIGHT
TZOFFSETFROM:+0100
TZOFFSETTO:+0200
TZNAME:CEST
DTSTART:20270328T010000
END:DAYLIGHT
BEGIN:STANDARD
TZOFFSETFROM:+0200
TZOFFSETTO:+0100
TZNAME:CET
DTSTART:20271031T010000
END:STANDARD
END:VTIMEZONE
BEGIN:VEVENT
DTSTART;TZID=Europe/Amsterdam:20261113T200000
DTEND;TZID=Europe/Amsterdam:20261113T200000
DTSTAMP:20260421T134444
CREATED:20260407T103125Z
LAST-MODIFIED:20260408T102644Z
UID:30756-1794600000-1794600000@www.pakhuishoorn.nl
SUMMARY:"Wakker Worden" (try-out) door Rachid Larouz
DESCRIPTION:Opeens dringt het tot je door: het leven is niet wat je dacht dat het was. Je wordt wakker. Niet met een wekker\, maar met een klap van inzicht. Je ogen gaan open\, en langzaam vind je de weg omhoog weer. Maar ieder voordeel heeft zijn nadeel: zodra je echt wakker bent\, zie je ook haarscherp hoe absurd je soms bezig was.  \nWakker Worden is een voorstelling over vallen en weer opstaan. Over verlangen\, soms naar de verkeerde dingen\, soms eindelijk naar de juiste. Over hoe we verdwalen in onze eigen overtuigingen\, en over dat bevrijdende moment waarop je jezelf betrapt erom kunt lachen.  \nWant pas als je weet hoe diep je bent gevallen\, weet je hoe goed het voelt om weer op te staan.\nMet humor en zelfspot neemt Rachid Larouz het publiek mee in een persoonlijk\, eerlijk en geestig ontwaken.   \nRachid’s derde avondvullende voorstelling is er een vol valpartijen\, verwarring en verlichting. Een ode aan de lol van het leven\, zelfs als het even helemaal misgaat.\nWant soms moet je eerst keihard onderuitgaan\, om écht wakker te worden  \nRegie: Justus van Oel  \nAlle tickets zijn inclusief één drankje naar keuze. \nEen rolstoelplaats nodig? \nDat kan! Boek dan een rolstoelticket\, dan zorgen wij dat er vooraf ruimte wordt gemaakt voor de rolstoel. Ga je samen met iemand zonder rolstoel? Boek dan een regulier ticket voor de persoon die niet in een rolstoel zit\, zodat voor deze persoon een stoel beschikbaar is. Zijn de rolstoeltickets uitverkocht\, neem dan contact op met ons theater! \nBetalen met de Hoorn-pas? \nDat kan! Stuur uiterlijk drie dagen voor de voorstelling die je wilt bezoeken een e-mail naar info@pakhuishoorn.nl.\nZet in het bericht hoeveel kaarten je wilt hebben en welk bedrag je met de Hoorn-pas wilt betalen.\nJe kan ook ons bellen op 0229 247 202 (bereikbaar maandag-vrijdag 10:00-16:00 uur)
URL:https://www.pakhuishoorn.nl/voorstelling/wakker-worden-try-out-door-rachid-larouz/
LOCATION:Zaal 1 – Theater Het Pakhuis\, Onder de Boompjes 21\, Hoorn\, 1621 GG
CATEGORIES:uitgelicht
ATTACH;FMTTYPE=image/png:https://www.pakhuishoorn.nl/wp-content/uploads/2026/04/Rachid-Larouz-nieuw-horizontaal.png
END:VEVENT
END:VCALENDAR